BEGIN:VCALENDAR
VERSION:2.0
PRODID:-//北海道中小企業家同友会とかち支部 - ECPv4.6.8//NONSGML v1.0//EN
CALSCALE:GREGORIAN
METHOD:PUBLISH
X-WR-CALNAME:北海道中小企業家同友会とかち支部
X-ORIGINAL-URL:https://tokachi-obihiro.doyu.jp
X-WR-CALDESC:Events for 北海道中小企業家同友会とかち支部
BEGIN:VEVENT
DTSTART;TZID=Asia/Tokyo:20190513T163000
DTEND;TZID=Asia/Tokyo:20190513T190000
DTSTAMP:20260423T144441
CREATED:20190425T061424Z
LAST-MODIFIED:20190425T061424Z
UID:6070-1557765000-1557774000@tokachi-obihiro.doyu.jp
SUMMARY:第３回とかち支部幹事会
DESCRIPTION:◇日時：５月１３日（月）１６：３０～１９：００\n　　　　　（幹事会６０分・幹事交流会９０分）\n◇会場：ふじもり（西２条南１１丁目）\n◇会費：５５００円（会食代）\n◇議題：夏季の企画の検討、９００社会員を目指して \n第３回とかち支部幹事会
URL:https://tokachi-obihiro.doyu.jp/event/event6070/
LOCATION:西2条南11丁目8\, 帯広市\, 北海道\, 080-0012\, Japan
CATEGORIES:行事予定告知
ATTACH;FMTTYPE=image/jpeg:https://tokachi-obihiro.doyu.jp/wp/wp-content/uploads/2017/12/thum_logo1.jpg
END:VEVENT
END:VCALENDAR