BEGIN:VCALENDAR
VERSION:2.0
PRODID:-//北海道中小企業家同友会とかち支部 - ECPv4.6.8//NONSGML v1.0//EN
CALSCALE:GREGORIAN
METHOD:PUBLISH
X-WR-CALNAME:北海道中小企業家同友会とかち支部
X-ORIGINAL-URL:https://tokachi-obihiro.doyu.jp
X-WR-CALDESC:Events for 北海道中小企業家同友会とかち支部
BEGIN:VEVENT
DTSTART;TZID=Asia/Tokyo:20190521T190000
DTEND;TZID=Asia/Tokyo:20190521T210000
DTSTAMP:20260422T113722
CREATED:20190415T023220Z
LAST-MODIFIED:20190415T023220Z
UID:5945-1558465200-1558472400@tokachi-obihiro.doyu.jp
SUMMARY:新得地区会５月例会
DESCRIPTION:■日　時；５月２１日（火）　１９：００～２１：００\n■会　場；新得町公民館　研修室（新得町4条南4丁目、℡: 0156-64-5874）\n■テーマ；トムラウシの現状について～新得町の観光について考える～\n■話題提供；新得山岳会　会長　小西　則幸 氏\n■会　費；無　料（お食事のご用意はありません）\nPDFはこちら \n新得地区会５月例会
URL:https://tokachi-obihiro.doyu.jp/event/event5945/
LOCATION:上川郡新得町4条南4丁目9番地\, 081-0014\, Japan
CATEGORIES:行事予定告知
ATTACH;FMTTYPE=image/jpeg:https://tokachi-obihiro.doyu.jp/wp/wp-content/uploads/2017/12/thum_logo1.jpg
END:VEVENT
END:VCALENDAR