BEGIN:VCALENDAR
VERSION:2.0
PRODID:-//北海道中小企業家同友会とかち支部 - ECPv4.6.8//NONSGML v1.0//EN
CALSCALE:GREGORIAN
METHOD:PUBLISH
X-WR-CALNAME:北海道中小企業家同友会とかち支部
X-ORIGINAL-URL:https://tokachi-obihiro.doyu.jp
X-WR-CALDESC:Events for 北海道中小企業家同友会とかち支部
BEGIN:VEVENT
DTSTART;TZID=Asia/Tokyo:20190319T190000
DTEND;TZID=Asia/Tokyo:20190319T210000
DTSTAMP:20260420T131102
CREATED:20190301T040128Z
LAST-MODIFIED:20190301T040128Z
UID:5646-1553022000-1553029200@tokachi-obihiro.doyu.jp
SUMMARY:拓の会第２グループ3月例会
DESCRIPTION:日　時：3月１9日（火）　１９：００～２１：００ \n会　場：同友会とかち事務所（帯広市東2条南5丁目1） \nテーマ：マーケティングを学ぶ　第21章・22章 \n話題提供者：㈱ホクト石油　代表取締役　平井　健一 　氏 \nPDFはこちら \n拓の会第２グループ3月例会
URL:https://tokachi-obihiro.doyu.jp/event/event5646/
LOCATION:北海道帯広市東2条南5丁目1-1\, Japan
CATEGORIES:行事予定告知
ATTACH;FMTTYPE=image/jpeg:https://tokachi-obihiro.doyu.jp/wp/wp-content/uploads/2017/12/thum_logo1.jpg
END:VEVENT
END:VCALENDAR