BEGIN:VCALENDAR
VERSION:2.0
PRODID:-//北海道中小企業家同友会とかち支部 - ECPv4.6.8//NONSGML v1.0//EN
CALSCALE:GREGORIAN
METHOD:PUBLISH
X-WR-CALNAME:北海道中小企業家同友会とかち支部
X-ORIGINAL-URL:https://tokachi-obihiro.doyu.jp
X-WR-CALDESC:Events for 北海道中小企業家同友会とかち支部
BEGIN:VEVENT
DTSTART;TZID=Asia/Tokyo:20190314T120000
DTEND;TZID=Asia/Tokyo:20190314T170000
DTSTAMP:20260420T084320
CREATED:20190226T073255Z
LAST-MODIFIED:20190226T073255Z
UID:5594-1552564800-1552582800@tokachi-obihiro.doyu.jp
SUMMARY:環境部会３月例会
DESCRIPTION:日　時：３月１４日（木）乗り合い１２：００集合（現地集合１４：００）～（１６：００現地解散）乗り合い１７：００頃解散 \n会　場：㈲大坂林業（幕別町忠類錦町438番地） \n参加費：飲食代・ガソリン代等 実費 \nテーマ：いつか森となる苗木を手間ひまかけて育む　～大坂林業（代表取締役　松村幹了 氏）/視察訪問～ \n◎スケジュール（予定） \n１２：００　　㈲ルーラルコーポレーション（ＳＣ一橋学院）（帯広市西3南27-1-41　Rural1、電話:0155-25-7575）へ集合 \n　　　　　　　参加者乗り合いで移動開始（移動途中に昼食） \n※乗り合いを希望しない方は大坂林業に現地集合 \n１３：５０頃　㈲大坂林業（幕別町忠類錦町438番地）到着 \n１４：００　　会社見学＋報告（松村社長にご対応頂きます） \n１６：００　　視察終了　※乗り合いの方は帯広へ向けて移動 \n１７：００頃　㈲ルーラルコーポレーションへ到着後、解散 \nPDFはこちら \n環境部会３月例会
URL:https://tokachi-obihiro.doyu.jp/event/event5594/
LOCATION:幕別町忠類錦町438番地\, 北海道\, Japan
CATEGORIES:行事予定告知
ATTACH;FMTTYPE=image/jpeg:https://tokachi-obihiro.doyu.jp/wp/wp-content/uploads/2017/12/thum_logo1.jpg
END:VEVENT
END:VCALENDAR