BEGIN:VCALENDAR
VERSION:2.0
PRODID:-//北海道中小企業家同友会とかち支部 - ECPv4.6.8//NONSGML v1.0//EN
CALSCALE:GREGORIAN
METHOD:PUBLISH
X-WR-CALNAME:北海道中小企業家同友会とかち支部
X-ORIGINAL-URL:https://tokachi-obihiro.doyu.jp
X-WR-CALDESC:Events for 北海道中小企業家同友会とかち支部
BEGIN:VEVENT
DTSTART;TZID=Asia/Tokyo:20190219T190000
DTEND;TZID=Asia/Tokyo:20190219T210000
DTSTAMP:20260420T170225
CREATED:20190205T015433Z
LAST-MODIFIED:20190205T015433Z
UID:5416-1550602800-1550610000@tokachi-obihiro.doyu.jp
SUMMARY:いろはの会２月例会
DESCRIPTION:日　時：２月１９日(火)　１９：００～２１：００ \n会　場：同友会会議室（帯広市東２条南５丁目、電話22-3611） \nテーマ：わが社は住まいのトータルサポーター \n報告者：宅建四季　代表　阿部　敏幸 氏　（2018年３月入会） \nPDFはこちら \n  \nいろはの会２月例会
URL:https://tokachi-obihiro.doyu.jp/event/event5416/
LOCATION:北海道帯広市東2条南5丁目1-1\, Japan
CATEGORIES:行事予定告知
ATTACH;FMTTYPE=image/jpeg:https://tokachi-obihiro.doyu.jp/wp/wp-content/uploads/2017/12/thum_logo1.jpg
END:VEVENT
END:VCALENDAR