BEGIN:VCALENDAR
VERSION:2.0
PRODID:-//北海道中小企業家同友会とかち支部 - ECPv4.6.8//NONSGML v1.0//EN
CALSCALE:GREGORIAN
METHOD:PUBLISH
X-WR-CALNAME:北海道中小企業家同友会とかち支部
X-ORIGINAL-URL:https://tokachi-obihiro.doyu.jp
X-WR-CALDESC:Events for 北海道中小企業家同友会とかち支部
BEGIN:VEVENT
DTSTART;TZID=Asia/Tokyo:20190218T190000
DTEND;TZID=Asia/Tokyo:20190218T210000
DTSTAMP:20260420T131019
CREATED:20190130T080815Z
LAST-MODIFIED:20190130T080815Z
UID:5331-1550516400-1550523600@tokachi-obihiro.doyu.jp
SUMMARY:障がい者雇用セミナー
DESCRIPTION:日　時：２月１８日(月)１９:００-２１:００ \n場　所：同友会事務所会議室（帯広市東2条南5丁目1、電話 0155-22-3611） \n参加費：５００円 (1名分、会場代・資料代等として) \n<テーマ> \n障がい者雇用の進め方と働く環境づくり　～同友会だからこそできる十勝の障がい者雇用のはじめの一歩～ \n<パネリスト> \n北海道新得高等支援学校　特別支援教育コーディネーター　教諭　水野　直子　氏 \n北海道中札内高等養護学校　進路指導部　教諭　小林　　啓  氏 \n<コーディネーター> \n㈱つながり      　　代表取締役　北村　直也　氏 \n一般社団法人ちっぷす　代表理事　及川　抄織  氏 \n※準備の関係上、回答は2月１4日（木）までにお願いします。 \nPDFはこちら \n障がい者雇用セミナー
URL:https://tokachi-obihiro.doyu.jp/event/event5331/
LOCATION:北海道帯広市東2条南5丁目1-1\, Japan
CATEGORIES:行事予定告知
ATTACH;FMTTYPE=image/jpeg:https://tokachi-obihiro.doyu.jp/wp/wp-content/uploads/2017/12/thum_logo1.jpg
END:VEVENT
END:VCALENDAR