BEGIN:VCALENDAR
VERSION:2.0
PRODID:-//北海道中小企業家同友会とかち支部 - ECPv4.6.8//NONSGML v1.0//EN
CALSCALE:GREGORIAN
METHOD:PUBLISH
X-WR-CALNAME:北海道中小企業家同友会とかち支部
X-ORIGINAL-URL:https://tokachi-obihiro.doyu.jp
X-WR-CALDESC:Events for 北海道中小企業家同友会とかち支部
BEGIN:VEVENT
DTSTART;TZID=Asia/Tokyo:20190225T190000
DTEND;TZID=Asia/Tokyo:20190225T210000
DTSTAMP:20260422T122602
CREATED:20190130T060543Z
LAST-MODIFIED:20190130T060543Z
UID:5321-1551121200-1551128400@tokachi-obihiro.doyu.jp
SUMMARY:清水地区会２月例会
DESCRIPTION:■日　時；２月２５日（月）　１９：００～２１：００\n■会　場；清水町文化センター小会議室　(清水町南3条3丁目1、℡:0156-62-5115)\n■テーマ；新年度の地区会活動計画と役員体制について\n■会　費；無料　※お食事はございません\nPDFはこちら \n清水地区会２月例会
URL:https://tokachi-obihiro.doyu.jp/event/event5321/
LOCATION:清水町南3条3丁目1\, 上川郡\, 北海道\, Japan
CATEGORIES:行事予定告知
ATTACH;FMTTYPE=image/jpeg:https://tokachi-obihiro.doyu.jp/wp/wp-content/uploads/2017/12/thum_logo1.jpg
END:VEVENT
END:VCALENDAR