BEGIN:VCALENDAR
VERSION:2.0
PRODID:-//北海道中小企業家同友会とかち支部 - ECPv4.6.8//NONSGML v1.0//EN
CALSCALE:GREGORIAN
METHOD:PUBLISH
X-WR-CALNAME:北海道中小企業家同友会とかち支部
X-ORIGINAL-URL:https://tokachi-obihiro.doyu.jp
X-WR-CALDESC:Events for 北海道中小企業家同友会とかち支部
BEGIN:VEVENT
DTSTART;TZID=Asia/Tokyo:20190205T130000
DTEND;TZID=Asia/Tokyo:20190205T150000
DTSTAMP:20260424T160149
CREATED:20190122T013920Z
LAST-MODIFIED:20190122T013920Z
UID:5215-1549371600-1549378800@tokachi-obihiro.doyu.jp
SUMMARY:第5回経営労務委員会
DESCRIPTION:◇日時：２月５日（火） １３：００～１５：００\n◇会場：同友会とかち事務所 (帯広市東２条南５丁目１ TEL 22-3611)\n　　　※お食事はございません。\n◇議題：\n１）障害者セミナーの振り返り\n２）メンタルヘルス勉強会について\n３）翌年度運営方針について\n４）その他 \n第5回経営労務委員会
URL:https://tokachi-obihiro.doyu.jp/event/event5215/
LOCATION:北海道帯広市東2条南5丁目1-1\, Japan
CATEGORIES:行事予定告知
ATTACH;FMTTYPE=image/jpeg:https://tokachi-obihiro.doyu.jp/wp/wp-content/uploads/2017/12/thum_logo1.jpg
END:VEVENT
END:VCALENDAR