BEGIN:VCALENDAR
VERSION:2.0
PRODID:-//北海道中小企業家同友会とかち支部 - ECPv4.6.8//NONSGML v1.0//EN
CALSCALE:GREGORIAN
METHOD:PUBLISH
X-WR-CALNAME:北海道中小企業家同友会とかち支部
X-ORIGINAL-URL:https://tokachi-obihiro.doyu.jp
X-WR-CALDESC:Events for 北海道中小企業家同友会とかち支部
BEGIN:VEVENT
DTSTART;TZID=Asia/Tokyo:20190228T190000
DTEND;TZID=Asia/Tokyo:20190228T210000
DTSTAMP:20260424T160141
CREATED:20190121T025030Z
LAST-MODIFIED:20190121T025030Z
UID:5201-1551380400-1551387600@tokachi-obihiro.doyu.jp
SUMMARY:IT総合研究会2月例会
DESCRIPTION:日　時：2月28日（木）19：00～21：00\n会　場：同友会事務所（帯広市東2条南5丁目1）\n会　費：無料\nテーマ:健康管理の領域で活躍するウェアラブルデバイス fitbit の可能性\n報告者:株式会社ワールドソフト・イーエス 　十勝営業所／WEBアプリケーションチーム　マネージャー　鈴木 克明 氏 \nIT総合研究会2月例会
URL:https://tokachi-obihiro.doyu.jp/event/event5201/
LOCATION:北海道帯広市東2条南5丁目1-1\, Japan
CATEGORIES:行事予定告知
ATTACH;FMTTYPE=image/jpeg:https://tokachi-obihiro.doyu.jp/wp/wp-content/uploads/2017/12/thum_logo1.jpg
END:VEVENT
END:VCALENDAR