BEGIN:VCALENDAR
VERSION:2.0
PRODID:-//北海道中小企業家同友会とかち支部 - ECPv4.6.8//NONSGML v1.0//EN
CALSCALE:GREGORIAN
METHOD:PUBLISH
X-WR-CALNAME:北海道中小企業家同友会とかち支部
X-ORIGINAL-URL:https://tokachi-obihiro.doyu.jp
X-WR-CALDESC:Events for 北海道中小企業家同友会とかち支部
BEGIN:VEVENT
DTSTART;TZID=Asia/Tokyo:20190123T173000
DTEND;TZID=Asia/Tokyo:20190123T193000
DTSTAMP:20260424T103431
CREATED:20181217T003618Z
LAST-MODIFIED:20181217T003618Z
UID:4931-1548264600-1548271800@tokachi-obihiro.doyu.jp
SUMMARY:第8回共育委員会
DESCRIPTION:◇日時：１月２３日（水） １７：３０～１９：３０\n◇会場：とかちプラザ　３０６研修室(帯広市西４条南１３丁目１ )\n◇議題：\n１．新入社員フォローアップ研修について\n２．第８期ステップアップ研修について\n３．その他\nPDFはこちら \n第8回共育委員会
URL:https://tokachi-obihiro.doyu.jp/event/event4931/
LOCATION:帯広市西4条南13丁目1\, 帯広市\, 北海道\, Japan
CATEGORIES:行事予定告知
ATTACH;FMTTYPE=image/jpeg:https://tokachi-obihiro.doyu.jp/wp/wp-content/uploads/2017/12/thum_logo1.jpg
END:VEVENT
END:VCALENDAR