BEGIN:VCALENDAR
VERSION:2.0
PRODID:-//北海道中小企業家同友会とかち支部 - ECPv4.6.8//NONSGML v1.0//EN
CALSCALE:GREGORIAN
METHOD:PUBLISH
X-WR-CALNAME:北海道中小企業家同友会とかち支部
X-ORIGINAL-URL:https://tokachi-obihiro.doyu.jp
X-WR-CALDESC:Events for 北海道中小企業家同友会とかち支部
BEGIN:VEVENT
DTSTART;TZID=Asia/Tokyo:20190115T163000
DTEND;TZID=Asia/Tokyo:20190115T183000
DTSTAMP:20260422T102936
CREATED:20181213T023406Z
LAST-MODIFIED:20181213T023406Z
UID:4900-1547569800-1547577000@tokachi-obihiro.doyu.jp
SUMMARY:第11回とかち支部幹事会
DESCRIPTION:◇日時：１月１５日（火）１６：３０～１８：３０\n◇会場：同友会とかち事務所\n◇議題：新年度方針、役員体制の検討など \n第11回とかち支部幹事会
URL:https://tokachi-obihiro.doyu.jp/event/event4900/
LOCATION:北海道帯広市東2条南5丁目1-1\, Japan
CATEGORIES:行事予定告知
ATTACH;FMTTYPE=image/jpeg:https://tokachi-obihiro.doyu.jp/wp/wp-content/uploads/2017/12/thum_logo1.jpg
END:VEVENT
END:VCALENDAR