BEGIN:VCALENDAR
VERSION:2.0
PRODID:-//北海道中小企業家同友会とかち支部 - ECPv4.6.8//NONSGML v1.0//EN
CALSCALE:GREGORIAN
METHOD:PUBLISH
X-WR-CALNAME:北海道中小企業家同友会とかち支部
X-ORIGINAL-URL:https://tokachi-obihiro.doyu.jp
X-WR-CALDESC:Events for 北海道中小企業家同友会とかち支部
BEGIN:VEVENT
DTSTART;TZID=Asia/Tokyo:20190125T190000
DTEND;TZID=Asia/Tokyo:20190125T210000
DTSTAMP:20260424T144515
CREATED:20181205T025725Z
LAST-MODIFIED:20181205T025725Z
UID:4856-1548442800-1548450000@tokachi-obihiro.doyu.jp
SUMMARY:あすなる会 情報力探求グループ 1月例会
DESCRIPTION:日　時：1月25日(金)19：00～21：00\n場　所：とかちプラザ307\nテーマ：求人広告から採用戦略のヒントを見つけよう！\n話題提供：(株)ヒューマンリンクス　常務取締役　橋本　勇　氏\n　　　　　　（情報力探求グループグループ長）\nPDFはこちら \nあすなる会 情報力探求グループ 1月例会
URL:https://tokachi-obihiro.doyu.jp/event/event4856/
LOCATION:帯広市西4条南13丁目1\, 帯広市\, 北海道\, Japan
CATEGORIES:行事予定告知
ATTACH;FMTTYPE=image/jpeg:https://tokachi-obihiro.doyu.jp/wp/wp-content/uploads/2017/12/thum_logo1.jpg
END:VEVENT
END:VCALENDAR