BEGIN:VCALENDAR
VERSION:2.0
PRODID:-//北海道中小企業家同友会とかち支部 - ECPv4.6.8//NONSGML v1.0//EN
CALSCALE:GREGORIAN
METHOD:PUBLISH
X-WR-CALNAME:北海道中小企業家同友会とかち支部
X-ORIGINAL-URL:https://tokachi-obihiro.doyu.jp
X-WR-CALDESC:Events for 北海道中小企業家同友会とかち支部
BEGIN:VEVENT
DTSTART;TZID=Asia/Tokyo:20181214T190000
DTEND;TZID=Asia/Tokyo:20181214T220000
DTSTAMP:20260424T164015
CREATED:20181121T070341Z
LAST-MODIFIED:20181204T093014Z
UID:4763-1544814000-1544824800@tokachi-obihiro.doyu.jp
SUMMARY:経営指針「Cグループ」第10講　※会場変更
DESCRIPTION:会場変更：日東電気工業　⇒　紺野建設（モデルハウス） \n日　時：12月14日（金）19：00～22：00\n会　場：紺野建設モデルハウス　（上川郡清水町本通12丁目19番地1）\n発表者：佐藤さん、大石さん　★2回目の発表 \n【課　題】\nクロスSWOT分析表\n経営方針検討シート\n経営方針シート \n経営指針「Cグループ」第10講　※会場変更
URL:https://tokachi-obihiro.doyu.jp/event/event4763/
LOCATION:清水町本通12丁目19番地1\, 北海道\, Japan
CATEGORIES:行事予定告知
ATTACH;FMTTYPE=image/jpeg:https://tokachi-obihiro.doyu.jp/wp/wp-content/uploads/2017/12/thum_logo1.jpg
END:VEVENT
END:VCALENDAR