BEGIN:VCALENDAR
VERSION:2.0
PRODID:-//北海道中小企業家同友会とかち支部 - ECPv4.6.8//NONSGML v1.0//EN
CALSCALE:GREGORIAN
METHOD:PUBLISH
X-WR-CALNAME:北海道中小企業家同友会とかち支部
X-ORIGINAL-URL:https://tokachi-obihiro.doyu.jp
X-WR-CALDESC:Events for 北海道中小企業家同友会とかち支部
BEGIN:VEVENT
DTSTART;TZID=Asia/Tokyo:20181205T190000
DTEND;TZID=Asia/Tokyo:20181205T210000
DTSTAMP:20260422T210954
CREATED:20181115T045252Z
LAST-MODIFIED:20181115T045252Z
UID:4705-1544036400-1544043600@tokachi-obihiro.doyu.jp
SUMMARY:拓の会第４グループ１２月例会
DESCRIPTION:日　時：１２月５日（水）　１９：００～２１：００ \n会　場：同友会とかち事務所（帯広市東２条南５丁目１） \nテーマ：経営委譲する時の世襲制の問題点 \n話題提供者：㈱和光農場　代表取締役　松橋　和光 氏 \n※出席・欠席に関わらず、別紙（添付）の質問にご回答・ご返信をお願い致します。 \n（質問および出欠回答期限：1１月3０日） \n★質問への回答は、第４グループ長（こまば歯科　小田さん）へ直接ご返信下さい \nPDFはこちら \n拓の会第４グループ１２月例会
URL:https://tokachi-obihiro.doyu.jp/event/event4705/
LOCATION:北海道帯広市東2条南5丁目1-1\, Japan
CATEGORIES:行事予定告知
ATTACH;FMTTYPE=image/jpeg:https://tokachi-obihiro.doyu.jp/wp/wp-content/uploads/2017/12/thum_logo1.jpg
END:VEVENT
END:VCALENDAR