BEGIN:VCALENDAR
VERSION:2.0
PRODID:-//北海道中小企業家同友会とかち支部 - ECPv4.6.8//NONSGML v1.0//EN
CALSCALE:GREGORIAN
METHOD:PUBLISH
X-WR-CALNAME:北海道中小企業家同友会とかち支部
X-ORIGINAL-URL:https://tokachi-obihiro.doyu.jp
X-WR-CALDESC:Events for 北海道中小企業家同友会とかち支部
BEGIN:VEVENT
DTSTART;TZID=Asia/Tokyo:20181129T190000
DTEND;TZID=Asia/Tokyo:20181129T210000
DTSTAMP:20260422T195353
CREATED:20181114T053945Z
LAST-MODIFIED:20181114T053945Z
UID:4698-1543518000-1543525200@tokachi-obihiro.doyu.jp
SUMMARY:池田地区会１１月例会
DESCRIPTION:■日　時；１１月２９日（木）　１９：００～２１：００\n■会　場；西部地域コミュニティセンター（池田町字利別東町12-11、TEL：015-579-2138）\n■テーマ；創業５６年目、今までの歩みとこれから「常に前進、常に一歩」\n■話題提供；㈱マリエッタ　代表取締役　成田　孔一 氏\n■会　費；無　料\nPDFはこちら \n池田地区会１１月例会
URL:https://tokachi-obihiro.doyu.jp/event/event4698/
LOCATION:池田町字利別東町12-11\, 中川郡\, 北海道\, Japan
CATEGORIES:行事予定告知
ATTACH;FMTTYPE=image/jpeg:https://tokachi-obihiro.doyu.jp/wp/wp-content/uploads/2017/12/thum_logo1.jpg
END:VEVENT
END:VCALENDAR