BEGIN:VCALENDAR
VERSION:2.0
PRODID:-//北海道中小企業家同友会とかち支部 - ECPv4.6.8//NONSGML v1.0//EN
CALSCALE:GREGORIAN
METHOD:PUBLISH
X-WR-CALNAME:北海道中小企業家同友会とかち支部
X-ORIGINAL-URL:https://tokachi-obihiro.doyu.jp
X-WR-CALDESC:Events for 北海道中小企業家同友会とかち支部
BEGIN:VEVENT
DTSTART;TZID=Asia/Tokyo:20181129T190000
DTEND;TZID=Asia/Tokyo:20181129T210000
DTSTAMP:20260422T210944
CREATED:20181112T020730Z
LAST-MODIFIED:20181112T020730Z
UID:4682-1543518000-1543525200@tokachi-obihiro.doyu.jp
SUMMARY:清水地区会１１月例会
DESCRIPTION:■日　時；１１月２９日（木）　１９：００～２１：００\n■会　場；清水町文化センター 第２研修室（清水町南3条3丁目1)\n■テーマ；食べる喜び、使う楽しみ、作る面白さ、のある畑作農業へ～地区会員発表で互いに学びあおう～\n■話題提供；佐藤農業㈱　代表取締役　佐藤　裕一　氏\n◇小麦、馬鈴薯、てん菜、大豆、小豆、スペルト小麦粉（古代小麦の一種）の生産\n■会　費；無　料（お食事はありません）\nPDFはこちら \n清水地区会１１月例会
URL:https://tokachi-obihiro.doyu.jp/event/event4682/
LOCATION:清水町南３条３丁目１\, 清水町\, 北海道\, Japan
CATEGORIES:行事予定告知
ATTACH;FMTTYPE=image/jpeg:https://tokachi-obihiro.doyu.jp/wp/wp-content/uploads/2017/12/thum_logo1.jpg
END:VEVENT
END:VCALENDAR