BEGIN:VCALENDAR
VERSION:2.0
PRODID:-//北海道中小企業家同友会とかち支部 - ECPv4.6.8//NONSGML v1.0//EN
CALSCALE:GREGORIAN
METHOD:PUBLISH
X-WR-CALNAME:北海道中小企業家同友会とかち支部
X-ORIGINAL-URL:https://tokachi-obihiro.doyu.jp
X-WR-CALDESC:Events for 北海道中小企業家同友会とかち支部
BEGIN:VEVENT
DTSTART;TZID=Asia/Tokyo:20181204T190000
DTEND;TZID=Asia/Tokyo:20181204T210000
DTSTAMP:20260422T210941
CREATED:20181106T074633Z
LAST-MODIFIED:20181106T074633Z
UID:4618-1543950000-1543957200@tokachi-obihiro.doyu.jp
SUMMARY:農業経営部会１２月例会（農業政策グループ）
DESCRIPTION:日　時：１２月４日(火)１９：００～２１:００ \n会　場 ：同友会事務所（帯広市東2条南5丁目1） \n参加費 ：無　料　※終了後に講師を囲む会を開催します \nテーマ：十勝の魅力と可能性を最大限に発揮 \n講　師：北海道十勝総合振興局　局長　三井　真　氏 \nPDFはこちら \n農業経営部会１２月例会（農業政策グループ）
URL:https://tokachi-obihiro.doyu.jp/event/event4618/
LOCATION:北海道帯広市東2条南5丁目1-1\, Japan
CATEGORIES:行事予定告知
ATTACH;FMTTYPE=image/jpeg:https://tokachi-obihiro.doyu.jp/wp/wp-content/uploads/2017/12/thum_logo1.jpg
END:VEVENT
END:VCALENDAR