BEGIN:VCALENDAR
VERSION:2.0
PRODID:-//北海道中小企業家同友会とかち支部 - ECPv4.6.8//NONSGML v1.0//EN
CALSCALE:GREGORIAN
METHOD:PUBLISH
X-WR-CALNAME:北海道中小企業家同友会とかち支部
X-ORIGINAL-URL:https://tokachi-obihiro.doyu.jp
X-WR-CALDESC:Events for 北海道中小企業家同友会とかち支部
BEGIN:VEVENT
DTSTART;TZID=Asia/Tokyo:20181130T183000
DTEND;TZID=Asia/Tokyo:20181130T213000
DTSTAMP:20260422T182832
CREATED:20181105T015646Z
LAST-MODIFIED:20181105T025409Z
UID:4596-1543602600-1543613400@tokachi-obihiro.doyu.jp
SUMMARY:広尾地区会・大樹地区会 合同望年例会
DESCRIPTION:■日　時；１１月３０日（金）　１８：３０～２１：００\n18：30～19：30　中嶋社長報告　　19：30～21：00　懇親会\n■会　場；鮨正（広尾町西1-7　電話：01558-2-4286）\n■テーマ；牡蠣漁師歴４０年！厚岸産牡蠣ブランド「カキえもん」物語\n■報告者；カキキン㈲　代表取締役　中嶋　均　氏\n＜同友会くしろ支部　厚岸地区会会員＞\n＜設立：2004年、資本金：300万円、事業内容：牡蠣、アサリ養殖・販売＞\n■会　費；５，０００円（お食事代、牡蠣代等として　※領収証は同友会から発行）\nPDFはこちら \n広尾地区会・大樹地区会 合同望年例会
URL:https://tokachi-obihiro.doyu.jp/event/event4596/
LOCATION:西1条7丁目2-2\, 広尾郡広尾町\, 北海道\, 089-2611\, Japan
CATEGORIES:行事予定告知
ATTACH;FMTTYPE=image/jpeg:https://tokachi-obihiro.doyu.jp/wp/wp-content/uploads/2017/12/thum_logo1.jpg
END:VEVENT
END:VCALENDAR