BEGIN:VCALENDAR
VERSION:2.0
PRODID:-//北海道中小企業家同友会とかち支部 - ECPv4.6.8//NONSGML v1.0//EN
CALSCALE:GREGORIAN
METHOD:PUBLISH
X-WR-CALNAME:北海道中小企業家同友会とかち支部
X-ORIGINAL-URL:https://tokachi-obihiro.doyu.jp
X-WR-CALDESC:Events for 北海道中小企業家同友会とかち支部
BEGIN:VEVENT
DTSTART;TZID=Asia/Tokyo:20181119T183000
DTEND;TZID=Asia/Tokyo:20181119T213000
DTSTAMP:20260424T153929
CREATED:20181017T235339Z
LAST-MODIFIED:20181017T235358Z
UID:4487-1542652200-1542663000@tokachi-obihiro.doyu.jp
SUMMARY:経営指針「Aグループ」第9講
DESCRIPTION:日　時：11月19日（月）18：30～21：30\n会　場：夢の蔵（帯広市西23北1-5）\n発表者：資料の提出順で2名 \n【課　題】 ※課題は当日午前中まで\nクロスSWOT分析表\n経営方針検討シート\n経営方針シート \n経営指針「Aグループ」第9講
URL:https://tokachi-obihiro.doyu.jp/event/event4487/
LOCATION:日本、〒080-2463 北海道帯広市西２３条北１丁目５−５\, Japan
CATEGORIES:行事予定告知
ATTACH;FMTTYPE=image/jpeg:https://tokachi-obihiro.doyu.jp/wp/wp-content/uploads/2017/12/thum_logo1.jpg
END:VEVENT
END:VCALENDAR