BEGIN:VCALENDAR
VERSION:2.0
PRODID:-//北海道中小企業家同友会とかち支部 - ECPv4.6.8//NONSGML v1.0//EN
CALSCALE:GREGORIAN
METHOD:PUBLISH
X-WR-CALNAME:北海道中小企業家同友会とかち支部
X-ORIGINAL-URL:https://tokachi-obihiro.doyu.jp
X-WR-CALDESC:Events for 北海道中小企業家同友会とかち支部
BEGIN:VEVENT
DTSTART;TZID=Asia/Tokyo:20181121T180000
DTEND;TZID=Asia/Tokyo:20181121T200000
DTSTAMP:20260424T190919
CREATED:20181017T030517Z
LAST-MODIFIED:20181017T030517Z
UID:4478-1542823200-1542830400@tokachi-obihiro.doyu.jp
SUMMARY:第７回十勝地サイダー研究会（第２回生産者の会）
DESCRIPTION:日　時：１１月２１日（水） １８：００～２０：００\n会　場：同友会とかち事務所会議室(帯広市東2条南5丁目1)\nテーマ：地サイダーの製造、来期の販売について等\nPDFはこちら \n第７回十勝地サイダー研究会（第２回生産者の会）
URL:https://tokachi-obihiro.doyu.jp/event/event4478/
LOCATION:北海道帯広市東2条南5丁目1-1\, Japan
CATEGORIES:行事予定告知
ATTACH;FMTTYPE=image/jpeg:https://tokachi-obihiro.doyu.jp/wp/wp-content/uploads/2017/12/thum_logo1.jpg
END:VEVENT
END:VCALENDAR