BEGIN:VCALENDAR
VERSION:2.0
PRODID:-//北海道中小企業家同友会とかち支部 - ECPv4.6.8//NONSGML v1.0//EN
CALSCALE:GREGORIAN
METHOD:PUBLISH
X-WR-CALNAME:北海道中小企業家同友会とかち支部
X-ORIGINAL-URL:https://tokachi-obihiro.doyu.jp
X-WR-CALDESC:Events for 北海道中小企業家同友会とかち支部
BEGIN:VEVENT
DTSTART;TZID=Asia/Tokyo:20181107T190000
DTEND;TZID=Asia/Tokyo:20181107T210000
DTSTAMP:20260424T135727
CREATED:20181015T001548Z
LAST-MODIFIED:20181015T001557Z
UID:4464-1541617200-1541624400@tokachi-obihiro.doyu.jp
SUMMARY:第6回 青年経営者の会 世話人会
DESCRIPTION:日 時：１１月７日（水）１９：００～２１：００\n会 場：帯広市民文化ホール第４練習室\n議 題：\n１）第４回例会（１０月/細川副代表G担当）を振り返って\n２）全道青年部・後継者部会交流会inくしろ（11/9）に向けて\n３）２０１９年度の世話人体制について\n４）臨時総会・第５回例会 望年例会（12/17）に向けて\n５）その他 \n第6回 青年経営者の会 世話人会
URL:https://tokachi-obihiro.doyu.jp/event/event4464/
LOCATION:帯広市西５条南１１丁目４８\, 北海道\, Japan
CATEGORIES:行事予定告知
ATTACH;FMTTYPE=image/jpeg:https://tokachi-obihiro.doyu.jp/wp/wp-content/uploads/2017/12/thum_logo1.jpg
END:VEVENT
END:VCALENDAR