BEGIN:VCALENDAR
VERSION:2.0
PRODID:-//北海道中小企業家同友会とかち支部 - ECPv4.6.8//NONSGML v1.0//EN
CALSCALE:GREGORIAN
METHOD:PUBLISH
X-WR-CALNAME:北海道中小企業家同友会とかち支部
X-ORIGINAL-URL:https://tokachi-obihiro.doyu.jp
X-WR-CALDESC:Events for 北海道中小企業家同友会とかち支部
BEGIN:VEVENT
DTSTART;TZID=Asia/Tokyo:20190115T120000
DTEND;TZID=Asia/Tokyo:20190121T120000
DTSTAMP:20260422T115508
CREATED:20181004T042337Z
LAST-MODIFIED:20181004T043242Z
UID:4397-1547553600-1548072000@tokachi-obihiro.doyu.jp
SUMMARY:ドバイ視察研修
DESCRIPTION:◆日程：２０１９年１月１５日(火)～２１日(月)\n◆参加費：２６～２８万円程度 (宿泊：ホリディーインフェスティバルシティ）\n◆人数１０名(最少催行人員　８名・先着順)\nPDFはこちら \nドバイ視察研修
URL:https://tokachi-obihiro.doyu.jp/event/event4397/
CATEGORIES:行事予定告知
ATTACH;FMTTYPE=image/jpeg:https://tokachi-obihiro.doyu.jp/wp/wp-content/uploads/2017/12/thum_logo1.jpg
END:VEVENT
END:VCALENDAR