BEGIN:VCALENDAR
VERSION:2.0
PRODID:-//北海道中小企業家同友会とかち支部 - ECPv4.6.8//NONSGML v1.0//EN
CALSCALE:GREGORIAN
METHOD:PUBLISH
X-WR-CALNAME:北海道中小企業家同友会とかち支部
X-ORIGINAL-URL:https://tokachi-obihiro.doyu.jp
X-WR-CALDESC:Events for 北海道中小企業家同友会とかち支部
BEGIN:VEVENT
DTSTART;TZID=Asia/Tokyo:20181016T143000
DTEND;TZID=Asia/Tokyo:20181016T170000
DTSTAMP:20260423T112723
CREATED:20181003T015735Z
LAST-MODIFIED:20181003T015735Z
UID:4385-1539700200-1539709200@tokachi-obihiro.doyu.jp
SUMMARY:JICA研修員との交流会【Part2】
DESCRIPTION:【Part2 JICA日系研修・研修員との交流会】\n◆日時：１０月１６日(火)14:30～17:00\n◆場所：JICA帯広　（会場は調整中）\n◆会費：無料　（茶菓子等をご用意いたします）\n◆研修コース：日系研修(6次産業化、農商工連携)\n◆研修員：キューバ、メキシコ、ブラジル、アルゼンチンの合計6名(日系3\,4世の方などとなります)\n◆その他(通訳等)：スペイン語通訳を1名配置しております。また、日本語を少し話せる研修員もおりますのでお気軽にご参加ください。 \nJICA研修員との交流会【Part2】
URL:https://tokachi-obihiro.doyu.jp/event/event4385/
LOCATION:帯広市西20条南6丁目1-2\, 北海道\, Japan
CATEGORIES:行事予定告知
ATTACH;FMTTYPE=image/jpeg:https://tokachi-obihiro.doyu.jp/wp/wp-content/uploads/2017/12/thum_logo1.jpg
END:VEVENT
END:VCALENDAR