BEGIN:VCALENDAR
VERSION:2.0
PRODID:-//北海道中小企業家同友会とかち支部 - ECPv4.6.8//NONSGML v1.0//EN
CALSCALE:GREGORIAN
METHOD:PUBLISH
X-WR-CALNAME:北海道中小企業家同友会とかち支部
X-ORIGINAL-URL:https://tokachi-obihiro.doyu.jp
X-WR-CALDESC:Events for 北海道中小企業家同友会とかち支部
BEGIN:VEVENT
DTSTART;TZID=Asia/Tokyo:20181012T140000
DTEND;TZID=Asia/Tokyo:20181012T160000
DTSTAMP:20260421T113138
CREATED:20181003T015354Z
LAST-MODIFIED:20181003T020041Z
UID:4378-1539352800-1539360000@tokachi-obihiro.doyu.jp
SUMMARY:JICA研修員との交流会【Part1】
DESCRIPTION:【Part1　JICA投資促進ｺｰｽ・研修員との交流会】\n◆日時：１０月１２日(金)14：00～16:00\n◆場所：JICA帯広 1F会議室\n◆会費：無料　（茶菓子等をご用意いたします）\n◆研修コース：投資促進、キャパシティ・デベロップメント\n◆研修員：エチオピア、マラウイ、メキシコ、ミャンマー、タジキスタン、バヌアツ、ベトナム、ジンバブエの合計8名\n　※研修員は、各国の投資庁(外資企業の進出を受け入れる部署)の担当職員となりますので、海外進出の参考になります。\n◆その他(通訳等)：英語通訳を2～3名配置しますので、日本語でお話できます。 \nJICA研修員との交流会【Part1】
URL:https://tokachi-obihiro.doyu.jp/event/event4378/
LOCATION:帯広市西20条南6丁目1-2\, 北海道\, Japan
CATEGORIES:行事予定告知
ATTACH;FMTTYPE=image/jpeg:https://tokachi-obihiro.doyu.jp/wp/wp-content/uploads/2017/12/thum_logo1.jpg
END:VEVENT
END:VCALENDAR