BEGIN:VCALENDAR
VERSION:2.0
PRODID:-//北海道中小企業家同友会とかち支部 - ECPv4.6.8//NONSGML v1.0//EN
CALSCALE:GREGORIAN
METHOD:PUBLISH
X-WR-CALNAME:北海道中小企業家同友会とかち支部
X-ORIGINAL-URL:https://tokachi-obihiro.doyu.jp
X-WR-CALDESC:Events for 北海道中小企業家同友会とかち支部
BEGIN:VEVENT
DTSTART;TZID=Asia/Tokyo:20181120T170000
DTEND;TZID=Asia/Tokyo:20181120T190000
DTSTAMP:20260426T034635
CREATED:20181002T030136Z
LAST-MODIFIED:20181002T040514Z
UID:4351-1542733200-1542740400@tokachi-obihiro.doyu.jp
SUMMARY:金融セミナー
DESCRIPTION:◆日　時：１１月２０日（火）１７：００～１９：００\n◆会　場： 帯広信用金庫中央支店セミナールーム（帯広市西３条南１４丁目中央支店ビル３階）\n◆会　費：１，０００円\n◆テーマ：「中小企業と金融機関の信頼関係をどうつくるか」～新しい地域金融を考える～\n◆講　師：NPO法人　日本動産鑑定　会長　森　俊彦 氏（東京） \nPDFはこちら \n金融セミナー
URL:https://tokachi-obihiro.doyu.jp/event/event4351/
LOCATION:帯広市西3条南14丁目1\, 帯広市\, 北海道\, Japan
CATEGORIES:行事予定告知
ATTACH;FMTTYPE=image/jpeg:https://tokachi-obihiro.doyu.jp/wp/wp-content/uploads/2017/12/thum_logo1.jpg
END:VEVENT
END:VCALENDAR