BEGIN:VCALENDAR
VERSION:2.0
PRODID:-//北海道中小企業家同友会とかち支部 - ECPv4.6.8//NONSGML v1.0//EN
CALSCALE:GREGORIAN
METHOD:PUBLISH
X-WR-CALNAME:北海道中小企業家同友会とかち支部
X-ORIGINAL-URL:https://tokachi-obihiro.doyu.jp
X-WR-CALDESC:Events for 北海道中小企業家同友会とかち支部
BEGIN:VEVENT
DTSTART;TZID=Asia/Tokyo:20181003T180000
DTEND;TZID=Asia/Tokyo:20181003T200000
DTSTAMP:20260424T064806
CREATED:20180927T024005Z
LAST-MODIFIED:20180927T024005Z
UID:4326-1538589600-1538596800@tokachi-obihiro.doyu.jp
SUMMARY:第２０回道研実行委員会
DESCRIPTION:◇日時：１０月３日（水）１８時～２０時\n◇会場：同友会とかち事務所\n◇議題：道研の最終準備 \n第２０回道研実行委員会
URL:https://tokachi-obihiro.doyu.jp/event/event4326/
LOCATION:北海道帯広市東2条南5丁目1-1\, Japan
CATEGORIES:行事予定告知
ATTACH;FMTTYPE=image/jpeg:https://tokachi-obihiro.doyu.jp/wp/wp-content/uploads/2017/12/thum_logo1.jpg
END:VEVENT
END:VCALENDAR