BEGIN:VCALENDAR
VERSION:2.0
PRODID:-//北海道中小企業家同友会とかち支部 - ECPv4.6.8//NONSGML v1.0//EN
CALSCALE:GREGORIAN
METHOD:PUBLISH
X-WR-CALNAME:北海道中小企業家同友会とかち支部
X-ORIGINAL-URL:https://tokachi-obihiro.doyu.jp
X-WR-CALDESC:Events for 北海道中小企業家同友会とかち支部
BEGIN:VEVENT
DTSTART;TZID=Asia/Tokyo:20180913T180000
DTEND;TZID=Asia/Tokyo:20180913T193000
DTSTAMP:20260422T141807
CREATED:20180831T015634Z
LAST-MODIFIED:20180831T015634Z
UID:4144-1536861600-1536867000@tokachi-obihiro.doyu.jp
SUMMARY:第18回道研実行委員会
DESCRIPTION:◇日時：９月１３日（木）１８時～１９時半\n◇会場：同友会とかち事務所\n◇議題：道研準備の進捗確認 \n第18回道研実行委員会
URL:https://tokachi-obihiro.doyu.jp/event/event4144/
LOCATION:北海道帯広市東2条南5丁目1-1\, Japan
CATEGORIES:行事予定告知
ATTACH;FMTTYPE=image/jpeg:https://tokachi-obihiro.doyu.jp/wp/wp-content/uploads/2017/12/thum_logo1.jpg
END:VEVENT
END:VCALENDAR