BEGIN:VCALENDAR
VERSION:2.0
PRODID:-//北海道中小企業家同友会とかち支部 - ECPv4.6.8//NONSGML v1.0//EN
CALSCALE:GREGORIAN
METHOD:PUBLISH
X-WR-CALNAME:北海道中小企業家同友会とかち支部
X-ORIGINAL-URL:https://tokachi-obihiro.doyu.jp
X-WR-CALDESC:Events for 北海道中小企業家同友会とかち支部
BEGIN:VEVENT
DTSTART;TZID=Asia/Tokyo:20180904T120000
DTEND;TZID=Asia/Tokyo:20180904T160000
DTSTAMP:20260420T181918
CREATED:20180829T082353Z
LAST-MODIFIED:20180829T082353Z
UID:4125-1536062400-1536076800@tokachi-obihiro.doyu.jp
SUMMARY:ゴルフ同好会 第５回例会
DESCRIPTION:日　時：９月 ４日（火）   １２：００スタート \n会　場： 帯広国際ＣＣ　（中川郡幕別町字千住４２７　TEL０１５５－５６－３２２５） \n参加費：２\,０００円(景品代) \nゴルフ同好会 第５回例会
URL:https://tokachi-obihiro.doyu.jp/event/event4125/
LOCATION:中川郡幕別町字千住４２７\, 北海道
CATEGORIES:行事予定告知
ATTACH;FMTTYPE=image/jpeg:https://tokachi-obihiro.doyu.jp/wp/wp-content/uploads/2017/12/thum_logo1.jpg
END:VEVENT
END:VCALENDAR