BEGIN:VCALENDAR
VERSION:2.0
PRODID:-//北海道中小企業家同友会とかち支部 - ECPv4.6.8//NONSGML v1.0//EN
CALSCALE:GREGORIAN
METHOD:PUBLISH
X-WR-CALNAME:北海道中小企業家同友会とかち支部
X-ORIGINAL-URL:https://tokachi-obihiro.doyu.jp
X-WR-CALDESC:Events for 北海道中小企業家同友会とかち支部
BEGIN:VEVENT
DTSTART;TZID=Asia/Tokyo:20180921T190000
DTEND;TZID=Asia/Tokyo:20180921T210000
DTSTAMP:20260422T160732
CREATED:20180828T042853Z
LAST-MODIFIED:20180828T042853Z
UID:4083-1537556400-1537563600@tokachi-obihiro.doyu.jp
SUMMARY:池田地区会９月例会
DESCRIPTION:■日　時；９月２１日（金）　１９：００～２１：００\n■会　場；池田ワイン城２階セミナールーム（池田町清見83番地)\n■テーマ;とかち道研　最終うちあわせ～池田担当分科会を成功させよう～（池田ワイン城　見学分科会）\n■会　費；無　料\nPDFはこちら \n池田地区会９月例会
URL:https://tokachi-obihiro.doyu.jp/event/event4083/
LOCATION:中川郡池田町清見83-4\, 北海道\, 083-0002\, Japan
CATEGORIES:行事予定告知
ATTACH;FMTTYPE=image/jpeg:https://tokachi-obihiro.doyu.jp/wp/wp-content/uploads/2017/12/thum_logo1.jpg
END:VEVENT
END:VCALENDAR