BEGIN:VCALENDAR
VERSION:2.0
PRODID:-//北海道中小企業家同友会とかち支部 - ECPv4.6.8//NONSGML v1.0//EN
CALSCALE:GREGORIAN
METHOD:PUBLISH
X-WR-CALNAME:北海道中小企業家同友会とかち支部
X-ORIGINAL-URL:https://tokachi-obihiro.doyu.jp
X-WR-CALDESC:Events for 北海道中小企業家同友会とかち支部
BEGIN:VEVENT
DTSTART;TZID=Asia/Tokyo:20180911T190000
DTEND;TZID=Asia/Tokyo:20180911T210000
DTSTAMP:20260422T113725
CREATED:20180824T065508Z
LAST-MODIFIED:20180824T065508Z
UID:4060-1536692400-1536699600@tokachi-obihiro.doyu.jp
SUMMARY:新得地区会９月例会
DESCRIPTION:■日　時；９月１１日（火）　１９：００～２１：００\n■会　場；共働学舎新得農場カリンパニ（新得町字新得9-1)\n■テーマ；とかち道研　最終うちあわせ～新得担当分科会を成功させよう～（共働学舎新得農場　見学分科会）\n■会　費；無　料\nPDFはこちら \n新得地区会９月例会
URL:https://tokachi-obihiro.doyu.jp/event/event4060/
LOCATION:新得町字新得9-1\, 上川郡
CATEGORIES:行事予定告知
ATTACH;FMTTYPE=image/jpeg:https://tokachi-obihiro.doyu.jp/wp/wp-content/uploads/2017/12/thum_logo1.jpg
END:VEVENT
END:VCALENDAR