BEGIN:VCALENDAR
VERSION:2.0
PRODID:-//北海道中小企業家同友会とかち支部 - ECPv4.6.8//NONSGML v1.0//EN
CALSCALE:GREGORIAN
METHOD:PUBLISH
X-WR-CALNAME:北海道中小企業家同友会とかち支部
X-ORIGINAL-URL:https://tokachi-obihiro.doyu.jp
X-WR-CALDESC:Events for 北海道中小企業家同友会とかち支部
BEGIN:VEVENT
DTSTART;TZID=Asia/Tokyo:20180826T100000
DTEND;TZID=Asia/Tokyo:20180826T140000
DTSTAMP:20260424T144530
CREATED:20180809T054945Z
LAST-MODIFIED:20180809T054945Z
UID:3986-1535277600-1535292000@tokachi-obihiro.doyu.jp
SUMMARY:女性部会８月例会
DESCRIPTION:日　時：８月２６日（日）　10：00～14:00 ※雨天決行\n会　場：十勝農協連 家畜共進会場アグリアリーナ南側（音更町字音更西2線9番1）\n会　費：入場無料　お得な特典付チケットをぜひご利用下さい！\nテーマ：第２９回収穫感謝祭に参加しよう！ \n女性部会８月例会
URL:https://tokachi-obihiro.doyu.jp/event/event3986/
LOCATION:河東郡音更町字音更西2線9番1\, 北海道\, Japan
CATEGORIES:行事予定告知
ATTACH;FMTTYPE=image/jpeg:https://tokachi-obihiro.doyu.jp/wp/wp-content/uploads/2017/12/thum_logo1.jpg
END:VEVENT
END:VCALENDAR