BEGIN:VCALENDAR
VERSION:2.0
PRODID:-//北海道中小企業家同友会とかち支部 - ECPv4.6.8//NONSGML v1.0//EN
CALSCALE:GREGORIAN
METHOD:PUBLISH
X-WR-CALNAME:北海道中小企業家同友会とかち支部
X-ORIGINAL-URL:https://tokachi-obihiro.doyu.jp
X-WR-CALDESC:Events for 北海道中小企業家同友会とかち支部
BEGIN:VEVENT
DTSTART;TZID=Asia/Tokyo:20180911T130000
DTEND;TZID=Asia/Tokyo:20180911T170000
DTSTAMP:20260422T084539
CREATED:20180809T012033Z
LAST-MODIFIED:20180809T012033Z
UID:3970-1536670800-1536685200@tokachi-obihiro.doyu.jp
SUMMARY:第48期中堅幹部学校　第7・8講
DESCRIPTION:日　時： ９/１１（火）　１３：００～１７：００ \n※原則として 毎週火曜日１３：００～１７：００\n※曜日・時間は都合により一部変更になる場合があります。 \n会　場：  同友会会議室 \n【第７講】\nテーマ：財務初級講座\n講　師：税理士法人ＴＡＰ 代表社員　内田　勇介 氏 \n【第８講】\nテーマ：財務中級講座\n講　師：砂原会計事務所 所長　砂原　政広 氏 \nPDFはこちら \n第48期中堅幹部学校　第7・8講
URL:https://tokachi-obihiro.doyu.jp/event/event3970/
LOCATION:北海道帯広市東2条南5丁目1-1\, Japan
CATEGORIES:行事予定告知
ATTACH;FMTTYPE=image/jpeg:https://tokachi-obihiro.doyu.jp/wp/wp-content/uploads/2017/12/thum_logo1.jpg
END:VEVENT
END:VCALENDAR