BEGIN:VCALENDAR
VERSION:2.0
PRODID:-//北海道中小企業家同友会とかち支部 - ECPv4.6.8//NONSGML v1.0//EN
CALSCALE:GREGORIAN
METHOD:PUBLISH
X-WR-CALNAME:北海道中小企業家同友会とかち支部
X-ORIGINAL-URL:https://tokachi-obihiro.doyu.jp
X-WR-CALDESC:Events for 北海道中小企業家同友会とかち支部
BEGIN:VEVENT
DTSTART;TZID=Asia/Tokyo:20180904T130000
DTEND;TZID=Asia/Tokyo:20180904T170000
DTSTAMP:20260420T170305
CREATED:20180809T011650Z
LAST-MODIFIED:20180809T011650Z
UID:3967-1536066000-1536080400@tokachi-obihiro.doyu.jp
SUMMARY:第48期中堅幹部学校　第5・6講
DESCRIPTION:日　時： ９/４（火）　１３：００～１７：００ \n※原則として 毎週火曜日１３：００～１７：００\n※曜日・時間は都合により一部変更になる場合があります。 \n会　場：  同友会会議室 \n【第５講】\nテーマ：経営実践報告～同友会会員企業から学ぶ\n講　師：株式会社満寿屋商店 代表取締役　杉山　雅則 氏 \n【第６講】\nテーマ：企業や新事業を成長させるために必要なこと\n講　師：帯広信用金庫　経営コンサルティング室室長　三品　幸広 氏 \n※第５講と第６講の講師がお知らせと逆になりました。 \nPDFはこちら \n第48期中堅幹部学校　第5・6講
URL:https://tokachi-obihiro.doyu.jp/event/event3967/
LOCATION:北海道帯広市東2条南5丁目1-1\, Japan
CATEGORIES:行事予定告知
ATTACH;FMTTYPE=image/jpeg:https://tokachi-obihiro.doyu.jp/wp/wp-content/uploads/2017/12/thum_logo1.jpg
END:VEVENT
END:VCALENDAR