BEGIN:VCALENDAR
VERSION:2.0
PRODID:-//北海道中小企業家同友会とかち支部 - ECPv4.6.8//NONSGML v1.0//EN
CALSCALE:GREGORIAN
METHOD:PUBLISH
X-WR-CALNAME:北海道中小企業家同友会とかち支部
X-ORIGINAL-URL:https://tokachi-obihiro.doyu.jp
X-WR-CALDESC:Events for 北海道中小企業家同友会とかち支部
BEGIN:VEVENT
DTSTART;TZID=Asia/Tokyo:20180828T130000
DTEND;TZID=Asia/Tokyo:20180828T170000
DTSTAMP:20260420T181920
CREATED:20180809T010805Z
LAST-MODIFIED:20180809T010805Z
UID:3961-1535461200-1535475600@tokachi-obihiro.doyu.jp
SUMMARY:第48期中堅幹部学校　第3・4講
DESCRIPTION:日　時： ８/２８（火）　１３：００～１７：００ \n※原則として 毎週火曜日１３：００～１７：００\n※曜日・時間は都合により一部変更になる場合があります。 \n会　場：  別途ご連絡 \n【第３講】\nテーマ：企業見学～同友会会員企業から学ぶ\n講　師：ソーゴー印刷株式会社　代表取締役社長　高原　淳　氏 \n【第４講】\nテーマ：とかちの歴史～十勝の歴史から自社の未来を考える\n講　師：帯広市百年記念館 学芸員　大和田  努 氏 \nPDFはこちら \n第48期中堅幹部学校　第3・4講
URL:https://tokachi-obihiro.doyu.jp/event/event3961/
LOCATION:北海道帯広市東2条南5丁目1-1\, Japan
CATEGORIES:行事予定告知
ATTACH;FMTTYPE=image/jpeg:https://tokachi-obihiro.doyu.jp/wp/wp-content/uploads/2017/12/thum_logo1.jpg
END:VEVENT
END:VCALENDAR