BEGIN:VCALENDAR
VERSION:2.0
PRODID:-//北海道中小企業家同友会とかち支部 - ECPv4.6.8//NONSGML v1.0//EN
CALSCALE:GREGORIAN
METHOD:PUBLISH
X-WR-CALNAME:北海道中小企業家同友会とかち支部
X-ORIGINAL-URL:https://tokachi-obihiro.doyu.jp
X-WR-CALDESC:Events for 北海道中小企業家同友会とかち支部
BEGIN:VEVENT
DTSTART;TZID=Asia/Tokyo:20180912T190000
DTEND;TZID=Asia/Tokyo:20180912T210000
DTSTAMP:20260422T142930
CREATED:20180808T004138Z
LAST-MODIFIED:20180808T004138Z
UID:3932-1536778800-1536786000@tokachi-obihiro.doyu.jp
SUMMARY:大樹地区会・広尾地区会９月合同例会
DESCRIPTION:■日　時；９月１２日（水）　１９：００～２１：００\n■会　場；大樹町生涯学習センター ２階視聴覚室（大樹町双葉町6番地1）\n■テーマ；とかち道研　最終うちあわせ～大樹・広尾担当分科会を成功させよう～\n（インターステラテクノロジズ㈱＆ＳＯＲＡ　見学分科会）\n■会　費；１，０００円（お食事代等として）\nPDFはこちら \n大樹地区会・広尾地区会９月合同例会
URL:https://tokachi-obihiro.doyu.jp/event/event3932/
LOCATION:大樹町双葉町6番地1\, 広尾郡\, 北海道\, Japan
CATEGORIES:行事予定告知
ATTACH;FMTTYPE=image/jpeg:https://tokachi-obihiro.doyu.jp/wp/wp-content/uploads/2017/12/thum_logo1.jpg
END:VEVENT
END:VCALENDAR