BEGIN:VCALENDAR
VERSION:2.0
PRODID:-//北海道中小企業家同友会とかち支部 - ECPv4.6.8//NONSGML v1.0//EN
CALSCALE:GREGORIAN
METHOD:PUBLISH
X-WR-CALNAME:北海道中小企業家同友会とかち支部
X-ORIGINAL-URL:https://tokachi-obihiro.doyu.jp
X-WR-CALDESC:Events for 北海道中小企業家同友会とかち支部
BEGIN:VEVENT
DTSTART;TZID=Asia/Tokyo:20180827T190000
DTEND;TZID=Asia/Tokyo:20180827T213000
DTSTAMP:20260422T084537
CREATED:20180802T022245Z
LAST-MODIFIED:20180802T022245Z
UID:3901-1535396400-1535405400@tokachi-obihiro.doyu.jp
SUMMARY:青年経営者の会 第３回例会
DESCRIPTION:日　時：８月２７日（月） １９：００～２１：３０\nテーマ：人が集い、にぎわう十勝川温泉\n報告者：音更町十勝川温泉観光協会\n　　　　　　事務局長　窪　浩政 氏\n場　所：【例　会】ガーデンスパ十勝川温泉\n　　　　【懇親会】旬の野菜と焼肉　大地の匠\n参加費：5\,000円\nPDFはこちら \n青年経営者の会 第３回例会
URL:https://tokachi-obihiro.doyu.jp/event/event3901/
LOCATION:音更町十勝川温泉北14丁目\, 北海道\, Japan
CATEGORIES:行事予定告知
ATTACH;FMTTYPE=image/jpeg:https://tokachi-obihiro.doyu.jp/wp/wp-content/uploads/2017/12/thum_logo1.jpg
END:VEVENT
END:VCALENDAR