BEGIN:VCALENDAR
VERSION:2.0
PRODID:-//北海道中小企業家同友会とかち支部 - ECPv4.6.8//NONSGML v1.0//EN
CALSCALE:GREGORIAN
METHOD:PUBLISH
X-WR-CALNAME:北海道中小企業家同友会とかち支部
X-ORIGINAL-URL:https://tokachi-obihiro.doyu.jp
X-WR-CALDESC:Events for 北海道中小企業家同友会とかち支部
BEGIN:VEVENT
DTSTART;TZID=Asia/Tokyo:20180829T193000
DTEND;TZID=Asia/Tokyo:20180829T213000
DTSTAMP:20260420T170231
CREATED:20180802T012611Z
LAST-MODIFIED:20180823T044604Z
UID:3895-1535571000-1535578200@tokachi-obihiro.doyu.jp
SUMMARY:拓の会第9グループ8月例会※日程変更
DESCRIPTION:※開催日と会場が変更となりました！ \n日　時：８月２９日（水）　１９：３０～２１：３０\n会　場：同友会とかち支部事務所\nテーマ：メンバーそれぞれの悩みを話し合おう\n話題提供者：参加者全員 \n拓の会第9グループ8月例会※日程変更
URL:https://tokachi-obihiro.doyu.jp/event/event3895/
LOCATION:北海道帯広市東2条南5丁目1-1\, Japan
CATEGORIES:行事予定告知
ATTACH;FMTTYPE=image/jpeg:https://tokachi-obihiro.doyu.jp/wp/wp-content/uploads/2017/12/thum_logo1.jpg
END:VEVENT
END:VCALENDAR