BEGIN:VCALENDAR
VERSION:2.0
PRODID:-//北海道中小企業家同友会とかち支部 - ECPv4.6.8//NONSGML v1.0//EN
CALSCALE:GREGORIAN
METHOD:PUBLISH
X-WR-CALNAME:北海道中小企業家同友会とかち支部
X-ORIGINAL-URL:https://tokachi-obihiro.doyu.jp
X-WR-CALDESC:Events for 北海道中小企業家同友会とかち支部
BEGIN:VEVENT
DTSTART;TZID=Asia/Tokyo:20180823T190000
DTEND;TZID=Asia/Tokyo:20180823T210000
DTSTAMP:20260420T170222
CREATED:20180802T010712Z
LAST-MODIFIED:20180802T011327Z
UID:3887-1535050800-1535058000@tokachi-obihiro.doyu.jp
SUMMARY:拓の会第2グループ8月例会
DESCRIPTION:日　時：８月２３日（木）　１９：００～２１：００\n会　場：サロン齋藤亭（帯広市東2条南4丁目19）※同友会事務所の北側です\nテーマ：マーケティングを学ぶ　第７章・８章\n話題提供者：高嶋コンクリート工業㈱　営業課長　中村　秀樹 　氏 \nPDFはこちら \n拓の会第2グループ8月例会
URL:https://tokachi-obihiro.doyu.jp/event/event3887/
LOCATION:帯広市東2条南4丁目19\, 北海道\, 080-0011\, Japan
CATEGORIES:行事予定告知
ATTACH;FMTTYPE=image/jpeg:https://tokachi-obihiro.doyu.jp/wp/wp-content/uploads/2017/12/thum_logo1.jpg
END:VEVENT
END:VCALENDAR