BEGIN:VCALENDAR
VERSION:2.0
PRODID:-//北海道中小企業家同友会とかち支部 - ECPv4.6.8//NONSGML v1.0//EN
CALSCALE:GREGORIAN
METHOD:PUBLISH
X-WR-CALNAME:北海道中小企業家同友会とかち支部
X-ORIGINAL-URL:https://tokachi-obihiro.doyu.jp
X-WR-CALDESC:Events for 北海道中小企業家同友会とかち支部
BEGIN:VEVENT
DTSTART;TZID=Asia/Tokyo:20180802T190000
DTEND;TZID=Asia/Tokyo:20180802T210000
DTSTAMP:20260424T144520
CREATED:20180725T005445Z
LAST-MODIFIED:20180725T005445Z
UID:3832-1533236400-1533243600@tokachi-obihiro.doyu.jp
SUMMARY:人生大学８月例会
DESCRIPTION:日　時：８月２日（木）　１９：００～２１：００\n会　場：北の栖（帯広市西2条南10丁目14つるやビル2F、℡：0155-23-2222）\n会　費：３０００円（お食事代として）   ※当日キャンセルは会費を申し受けますことをご了承ください。\nテーマ：３０年に及ぶ失敗経験から得たもの\n話題提供：ソーゴー印刷㈱　代表取締役社長　高原　淳 氏 \nPDFはこちら \n人生大学８月例会
URL:https://tokachi-obihiro.doyu.jp/event/event3832/
LOCATION:西2条南10丁目14つるやビル2F\, 帯広市\, 北海道\, 080-0012\, Japan
CATEGORIES:行事予定告知
ATTACH;FMTTYPE=image/jpeg:https://tokachi-obihiro.doyu.jp/wp/wp-content/uploads/2017/12/thum_logo1.jpg
END:VEVENT
END:VCALENDAR