BEGIN:VCALENDAR
VERSION:2.0
PRODID:-//北海道中小企業家同友会とかち支部 - ECPv4.6.8//NONSGML v1.0//EN
CALSCALE:GREGORIAN
METHOD:PUBLISH
X-WR-CALNAME:北海道中小企業家同友会とかち支部
X-ORIGINAL-URL:https://tokachi-obihiro.doyu.jp
X-WR-CALDESC:Events for 北海道中小企業家同友会とかち支部
BEGIN:VEVENT
DTSTART;TZID=Asia/Tokyo:20180806T160000
DTEND;TZID=Asia/Tokyo:20180806T183000
DTSTAMP:20260422T115507
CREATED:20180723T030822Z
LAST-MODIFIED:20180723T030822Z
UID:3789-1533571200-1533580200@tokachi-obihiro.doyu.jp
SUMMARY:第16回道研実行委員会
DESCRIPTION:◇日時：８月６日（月）１６時～１８時半\n◇会場：同友会とかち事務所\n◇議題：道研参加者動員 \n第16回道研実行委員会
URL:https://tokachi-obihiro.doyu.jp/event/event3789/
LOCATION:北海道帯広市東2条南5丁目1-1\, Japan
CATEGORIES:行事予定告知
ATTACH;FMTTYPE=image/jpeg:https://tokachi-obihiro.doyu.jp/wp/wp-content/uploads/2017/12/thum_logo1.jpg
END:VEVENT
END:VCALENDAR