BEGIN:VCALENDAR
VERSION:2.0
PRODID:-//北海道中小企業家同友会とかち支部 - ECPv4.6.8//NONSGML v1.0//EN
CALSCALE:GREGORIAN
METHOD:PUBLISH
X-WR-CALNAME:北海道中小企業家同友会とかち支部
X-ORIGINAL-URL:https://tokachi-obihiro.doyu.jp
X-WR-CALDESC:Events for 北海道中小企業家同友会とかち支部
BEGIN:VEVENT
DTSTART;TZID=Asia/Tokyo:20180725T190000
DTEND;TZID=Asia/Tokyo:20180725T210000
DTSTAMP:20260423T171804
CREATED:20180712T085956Z
LAST-MODIFIED:20180712T085956Z
UID:3700-1532545200-1532552400@tokachi-obihiro.doyu.jp
SUMMARY:いろはの会７月例会
DESCRIPTION:日　時：７月２５日(水)　１９：００～２１：００\n会　場：同友会会議室（帯広市東２条南５丁目、電話２２-３６１１）\nテーマ：意外と知らない！？肩こりの本当の原因と種類\n話題提供者：帯広de整体こり楽とれ太　代表　類家  裕介 氏 \nPDFはこちら \n  \nいろはの会７月例会
URL:https://tokachi-obihiro.doyu.jp/event/event3700/
LOCATION:北海道帯広市東2条南5丁目1-1\, Japan
CATEGORIES:行事予定告知
ATTACH;FMTTYPE=image/jpeg:https://tokachi-obihiro.doyu.jp/wp/wp-content/uploads/2017/12/thum_logo1.jpg
END:VEVENT
END:VCALENDAR