BEGIN:VCALENDAR
VERSION:2.0
PRODID:-//北海道中小企業家同友会とかち支部 - ECPv4.6.8//NONSGML v1.0//EN
CALSCALE:GREGORIAN
METHOD:PUBLISH
X-WR-CALNAME:北海道中小企業家同友会とかち支部
X-ORIGINAL-URL:https://tokachi-obihiro.doyu.jp
X-WR-CALDESC:Events for 北海道中小企業家同友会とかち支部
BEGIN:VEVENT
DTSTART;TZID=Asia/Tokyo:20180727T120000
DTEND;TZID=Asia/Tokyo:20180727T140000
DTSTAMP:20260423T144547
CREATED:20180712T084700Z
LAST-MODIFIED:20180712T084824Z
UID:3694-1532692800-1532700000@tokachi-obihiro.doyu.jp
SUMMARY:環境部会第４回世話人会
DESCRIPTION:日　時：７月２７日（金） １２：００～１４：００ \n会　場：ナチュラル・ココ　本店（帯広市西１０条南１丁目１０－３、電話；0155-38-3833） \n会　費：1\,000円（食事代として） \n議　題：①前回世話人会以降の企画の振り返り\n　　　　②９月例会（武田鉄工所　見学）について\n　　　　③１１月以降の例会について\n　　　　④部会活動広報冊子「輩」（第２号）発行に向けて\n　　　　⑤その他 \nPDFはこちら \n環境部会第４回世話人会
URL:https://tokachi-obihiro.doyu.jp/event/event3694/
LOCATION:北海道帯広市西10条南1丁目10\, Japan
CATEGORIES:行事予定告知
ATTACH;FMTTYPE=image/jpeg:https://tokachi-obihiro.doyu.jp/wp/wp-content/uploads/2017/12/thum_logo1.jpg
END:VEVENT
END:VCALENDAR