BEGIN:VCALENDAR
VERSION:2.0
PRODID:-//北海道中小企業家同友会とかち支部 - ECPv4.6.8//NONSGML v1.0//EN
CALSCALE:GREGORIAN
METHOD:PUBLISH
X-WR-CALNAME:北海道中小企業家同友会とかち支部
X-ORIGINAL-URL:https://tokachi-obihiro.doyu.jp
X-WR-CALDESC:Events for 北海道中小企業家同友会とかち支部
BEGIN:VEVENT
DTSTART;TZID=Asia/Tokyo:20180808T190000
DTEND;TZID=Asia/Tokyo:20180808T210000
DTSTAMP:20260421T113124
CREATED:20180711T013019Z
LAST-MODIFIED:20180711T013247Z
UID:3672-1533754800-1533762000@tokachi-obihiro.doyu.jp
SUMMARY:拓の会第4グループ８月例会
DESCRIPTION:日時：８月８日（水）　１９：００～２１：００\n会場：同友会とかち事務所（帯広市東２条南５丁目１）\nテーマ：採用時に重視すべきポイントとは？\n話題提供者：ＮＰＯ法人グリーンライフサポートとかち　あかりデイサービス　施設長　倉野　拓彦 氏 \nPDFはこちら \n  \n拓の会第4グループ８月例会
URL:https://tokachi-obihiro.doyu.jp/event/event3672/
LOCATION:北海道帯広市東2条南5丁目1-1\, Japan
CATEGORIES:行事予定告知
ATTACH;FMTTYPE=image/jpeg:https://tokachi-obihiro.doyu.jp/wp/wp-content/uploads/2017/12/thum_logo1.jpg
END:VEVENT
END:VCALENDAR