BEGIN:VCALENDAR
VERSION:2.0
PRODID:-//北海道中小企業家同友会とかち支部 - ECPv4.6.8//NONSGML v1.0//EN
CALSCALE:GREGORIAN
METHOD:PUBLISH
X-WR-CALNAME:北海道中小企業家同友会とかち支部
X-ORIGINAL-URL:https://tokachi-obihiro.doyu.jp
X-WR-CALDESC:Events for 北海道中小企業家同友会とかち支部
BEGIN:VEVENT
DTSTART;TZID=Asia/Tokyo:20180730T190000
DTEND;TZID=Asia/Tokyo:20180730T210000
DTSTAMP:20260421T130620
CREATED:20180711T005741Z
LAST-MODIFIED:20180711T005916Z
UID:3668-1532977200-1532984400@tokachi-obihiro.doyu.jp
SUMMARY:第３回 青年経営者の会 世話人会
DESCRIPTION:日　時：７月３０日（月）１９：００～２１：００\n会　場：帯広市民文化ホール第３練習室（帯広市西5条南11丁目48）\n議　題：\n　１）道東３支部交流会を振り返って\n　２）第２回例会（７月/細川副代表G担当）を振り返って\n　３）第３回例会（８月/畠山副代表G担当）に向けて\n　４）あすなる会との交流会（９月/世話人担当）に向けて\n　５）その他 \n第３回 青年経営者の会 世話人会
URL:https://tokachi-obihiro.doyu.jp/event/event3668/
LOCATION:帯広市西５条南11丁目48\, 帯広市\, 北海道\, Japan
CATEGORIES:行事予定告知
ATTACH;FMTTYPE=image/jpeg:https://tokachi-obihiro.doyu.jp/wp/wp-content/uploads/2017/12/thum_logo1.jpg
END:VEVENT
END:VCALENDAR