BEGIN:VCALENDAR
VERSION:2.0
PRODID:-//北海道中小企業家同友会とかち支部 - ECPv4.6.8//NONSGML v1.0//EN
CALSCALE:GREGORIAN
METHOD:PUBLISH
X-WR-CALNAME:北海道中小企業家同友会とかち支部
X-ORIGINAL-URL:https://tokachi-obihiro.doyu.jp
X-WR-CALDESC:Events for 北海道中小企業家同友会とかち支部
BEGIN:VEVENT
DTSTART;TZID=Asia/Tokyo:20180829T190000
DTEND;TZID=Asia/Tokyo:20180829T210000
DTSTAMP:20260420T181920
CREATED:20180706T060019Z
LAST-MODIFIED:20180706T060019Z
UID:3640-1535569200-1535576400@tokachi-obihiro.doyu.jp
SUMMARY:第3回経営指針委員会
DESCRIPTION:◇日　時：8月29日（水）19：00～21：00\n◇会　場：とかち豚丼　夢の蔵（帯広市西23条北1丁目5-5）\n◇持ち物：テキスト「経営指針成文化と実践の手引き」\n◇議題\n・研究会の進捗状況\n・同窓会に向けて\n・課題シート学習会（自社事業分析～クロスSWOT分析まで）\n・その他 \n第3回経営指針委員会
URL:https://tokachi-obihiro.doyu.jp/event/event3640/
LOCATION:日本、〒080-2463 北海道帯広市西２３条北１丁目５−５\, Japan
CATEGORIES:行事予定告知
ATTACH;FMTTYPE=image/jpeg:https://tokachi-obihiro.doyu.jp/wp/wp-content/uploads/2017/12/thum_logo1.jpg
END:VEVENT
END:VCALENDAR