BEGIN:VCALENDAR
VERSION:2.0
PRODID:-//北海道中小企業家同友会とかち支部 - ECPv4.6.8//NONSGML v1.0//EN
CALSCALE:GREGORIAN
METHOD:PUBLISH
X-WR-CALNAME:北海道中小企業家同友会とかち支部
X-ORIGINAL-URL:https://tokachi-obihiro.doyu.jp
X-WR-CALDESC:Events for 北海道中小企業家同友会とかち支部
BEGIN:VEVENT
DTSTART;TZID=Asia/Tokyo:20180803T183000
DTEND;TZID=Asia/Tokyo:20180803T223000
DTSTAMP:20260420T181911
CREATED:20180706T022611Z
LAST-MODIFIED:20180706T022802Z
UID:3635-1533321000-1533335400@tokachi-obihiro.doyu.jp
SUMMARY:あすなる会 8月全体例会
DESCRIPTION:日　時：8月3日（金）18：30～22：30\n　　　　＜例　会＞18：30～20：00\n　　　　＜懇親会＞20：30～22：30\n場　所：＜例　会＞帯広スズランボウル（帯広市稲田町）\n　　　　＜懇親会＞大地のあきんど\nテーマ：あすなる会　創立20周年に向けて　第二章　―Kizuna　絆―　あすなるボウリング大会　全員集合！\n参加費：4\,500円（ボウリング代、ご飲食代として） \nPDFはこちら \nあすなる会 8月全体例会
URL:https://tokachi-obihiro.doyu.jp/event/event3635/
LOCATION:稲田町南8線西12番地1\, 帯広市\, 北海道\, 080-0831\, Japan
CATEGORIES:行事予定告知
ATTACH;FMTTYPE=image/jpeg:https://tokachi-obihiro.doyu.jp/wp/wp-content/uploads/2017/12/thum_logo1.jpg
END:VEVENT
END:VCALENDAR