BEGIN:VCALENDAR
VERSION:2.0
PRODID:-//北海道中小企業家同友会とかち支部 - ECPv4.6.8//NONSGML v1.0//EN
CALSCALE:GREGORIAN
METHOD:PUBLISH
X-WR-CALNAME:北海道中小企業家同友会とかち支部
X-ORIGINAL-URL:https://tokachi-obihiro.doyu.jp
X-WR-CALDESC:Events for 北海道中小企業家同友会とかち支部
BEGIN:VEVENT
DTSTART;TZID=Asia/Tokyo:20180712T190000
DTEND;TZID=Asia/Tokyo:20180712T223000
DTSTAMP:20260423T084042
CREATED:20180702T092433Z
LAST-MODIFIED:20180702T092540Z
UID:3549-1531422000-1531434600@tokachi-obihiro.doyu.jp
SUMMARY:拓の会第6グループ７月例会
DESCRIPTION:日時：７月１２日（木）　１９：００～２０：４５　\n　　　　　　　※２次会　２１：００～２２：３０\n会場：焼肉ＫＡＧＵＲＡ（芽室町東２条１丁目１番地７）\n参加費：無料（２次会参加の方は実費負担）\nテーマ：食と観光の連携による地域活性化（コーンチャーハン試食あり）\n報告者：芽室町観光物産協会　会長　松山博行 氏 \nPDFはこちら \n拓の会第6グループ７月例会
URL:https://tokachi-obihiro.doyu.jp/event/event3549/
LOCATION:芽室町東２条１丁目１番地７\, 河西郡\, 北海道\, Japan
CATEGORIES:行事予定告知
ATTACH;FMTTYPE=image/jpeg:https://tokachi-obihiro.doyu.jp/wp/wp-content/uploads/2017/12/thum_logo1.jpg
END:VEVENT
END:VCALENDAR