BEGIN:VCALENDAR
VERSION:2.0
PRODID:-//北海道中小企業家同友会とかち支部 - ECPv4.6.8//NONSGML v1.0//EN
CALSCALE:GREGORIAN
METHOD:PUBLISH
X-WR-CALNAME:北海道中小企業家同友会とかち支部
X-ORIGINAL-URL:https://tokachi-obihiro.doyu.jp
X-WR-CALDESC:Events for 北海道中小企業家同友会とかち支部
BEGIN:VEVENT
DTSTART;TZID=Asia/Tokyo:20180710T193000
DTEND;TZID=Asia/Tokyo:20180710T213000
DTSTAMP:20260421T130614
CREATED:20180702T081655Z
LAST-MODIFIED:20180702T082648Z
UID:3545-1531251000-1531258200@tokachi-obihiro.doyu.jp
SUMMARY:拓の会第9グループ７月例会
DESCRIPTION:日時：７月１０日（火）　１９：３０～２１：３０\n会場：同友会とかち事務所（帯広市東２条南５丁目１）\nテーマ：拓の会の学びで気づいたこと\n話題提供：㈱ネオプロセス　神保　雄一 氏 \nPDFはこちら \n拓の会第9グループ７月例会
URL:https://tokachi-obihiro.doyu.jp/event/event3545/
LOCATION:北海道帯広市東2条南5丁目1-1\, Japan
CATEGORIES:行事予定告知
ATTACH;FMTTYPE=image/jpeg:https://tokachi-obihiro.doyu.jp/wp/wp-content/uploads/2017/12/thum_logo1.jpg
END:VEVENT
END:VCALENDAR