BEGIN:VCALENDAR
VERSION:2.0
PRODID:-//北海道中小企業家同友会とかち支部 - ECPv4.6.8//NONSGML v1.0//EN
CALSCALE:GREGORIAN
METHOD:PUBLISH
X-WR-CALNAME:北海道中小企業家同友会とかち支部
X-ORIGINAL-URL:https://tokachi-obihiro.doyu.jp
X-WR-CALDESC:Events for 北海道中小企業家同友会とかち支部
BEGIN:VEVENT
DTSTART;TZID=Asia/Tokyo:20180727T130000
DTEND;TZID=Asia/Tokyo:20180727T150000
DTSTAMP:20260423T160043
CREATED:20180621T024448Z
LAST-MODIFIED:20180621T072913Z
UID:3429-1532696400-1532703600@tokachi-obihiro.doyu.jp
SUMMARY:第３回経営・労務委員会
DESCRIPTION:◇日時：７月２７日（金） １３：００～１５：００\n◇会場：同友会とかち事務所 (帯広市東２条南５丁目１ TEL ２２-３６１１)\n◇議題：\n１）経営労務委員会担当の支部６月例会（６／２７）の振り返り\n２）２０１８年度の委員会活動について\n３）その他 \n第３回経営・労務委員会
URL:https://tokachi-obihiro.doyu.jp/event/event3429/
LOCATION:北海道帯広市東2条南5丁目1-1\, Japan
CATEGORIES:行事予定告知
ATTACH;FMTTYPE=image/jpeg:https://tokachi-obihiro.doyu.jp/wp/wp-content/uploads/2017/12/thum_logo1.jpg
END:VEVENT
END:VCALENDAR