BEGIN:VCALENDAR
VERSION:2.0
PRODID:-//北海道中小企業家同友会とかち支部 - ECPv4.6.8//NONSGML v1.0//EN
CALSCALE:GREGORIAN
METHOD:PUBLISH
X-WR-CALNAME:北海道中小企業家同友会とかち支部
X-ORIGINAL-URL:https://tokachi-obihiro.doyu.jp
X-WR-CALDESC:Events for 北海道中小企業家同友会とかち支部
BEGIN:VEVENT
DTSTART;TZID=Asia/Tokyo:20180704T190000
DTEND;TZID=Asia/Tokyo:20180704T210000
DTSTAMP:20260423T142635
CREATED:20180615T072634Z
LAST-MODIFIED:20180615T072634Z
UID:3368-1530730800-1530738000@tokachi-obihiro.doyu.jp
SUMMARY:拓の会第４グループ７月例会
DESCRIPTION:日時：７月４日（水）　１９：００～２１：００\n会場：同友会とかち事務所（帯広市東２条南５丁目１）\nテーマ：『社長、大丈夫ですか？』〜道内高額支払事例とちょっとやばかった実際の話し〜\n話題提供者：リブラス㈱帯広支店　　知地　亮治 氏\n　　　　　　同社　お客様サービス担当　宮　武 氏 \nPDFはこちら \n拓の会第４グループ７月例会
URL:https://tokachi-obihiro.doyu.jp/event/event3368/
LOCATION:北海道帯広市東2条南5丁目1-1\, Japan
CATEGORIES:行事予定告知
ATTACH;FMTTYPE=image/jpeg:https://tokachi-obihiro.doyu.jp/wp/wp-content/uploads/2017/12/thum_logo1.jpg
END:VEVENT
END:VCALENDAR